BEGIN:VCALENDAR
VERSION:2.0
PRODID:-//UNÂP - ECPv6.15.20//NONSGML v1.0//EN
CALSCALE:GREGORIAN
METHOD:PUBLISH
X-WR-CALNAME:UNÂP
X-ORIGINAL-URL:https://www.unap.eu
X-WR-CALDESC:Évènements pour UNÂP
REFRESH-INTERVAL;VALUE=DURATION:PT1H
X-Robots-Tag:noindex
X-PUBLISHED-TTL:PT1H
BEGIN:VTIMEZONE
TZID:Europe/Paris
BEGIN:DAYLIGHT
TZOFFSETFROM:+0100
TZOFFSETTO:+0200
TZNAME:CEST
DTSTART:20250330T010000
END:DAYLIGHT
BEGIN:STANDARD
TZOFFSETFROM:+0200
TZOFFSETTO:+0100
TZNAME:CET
DTSTART:20251026T010000
END:STANDARD
BEGIN:DAYLIGHT
TZOFFSETFROM:+0100
TZOFFSETTO:+0200
TZNAME:CEST
DTSTART:20260329T010000
END:DAYLIGHT
BEGIN:STANDARD
TZOFFSETFROM:+0200
TZOFFSETTO:+0100
TZNAME:CET
DTSTART:20261025T010000
END:STANDARD
BEGIN:DAYLIGHT
TZOFFSETFROM:+0100
TZOFFSETTO:+0200
TZNAME:CEST
DTSTART:20270328T010000
END:DAYLIGHT
BEGIN:STANDARD
TZOFFSETFROM:+0200
TZOFFSETTO:+0100
TZNAME:CET
DTSTART:20271031T010000
END:STANDARD
END:VTIMEZONE
BEGIN:VEVENT
DTSTART;VALUE=DATE:20260420
DTEND;VALUE=DATE:20260425
DTSTAMP:20260422T054613
CREATED:20251123T135335Z
LAST-MODIFIED:20251123T135335Z
UID:4944-1776643200-1777075199@www.unap.eu
SUMMARY:Maraîchage avec les ânes et la kassine
DESCRIPTION:Une formation pour apprendre à utiliser les ânes dans les travaux du maraîcher\, pour gagner en confiance dans sa relation avec l’âne. Venez découvrir les avantages et la facilité de la culture en billon et apprendre à se servir de la kassine sans effort\, en utilisant l’énergie de l’âne tout en respectant son rythme.
URL:https://www.unap.eu/stage/maraichage-avec-les-anes-et-la-kassine-4/
LOCATION:Mathieu Pepin PROMMATA 59\, Le Jardin de Pépin\, 15 rue de Liessies\, Willies\, 59740\, France
CATEGORIES:C : Perfectionnements ou spécialisations (2-5 jours ou plus)
ORGANIZER;CN="Promata Mathieu":MAILTO:lejardindepepin@gmail.com
END:VEVENT
BEGIN:VEVENT
DTSTART;VALUE=DATE:20260422
DTEND;VALUE=DATE:20260425
DTSTAMP:20260422T054613
CREATED:20260203T175519Z
LAST-MODIFIED:20260203T175611Z
UID:5104-1776816000-1777075199@www.unap.eu
SUMMARY:Accueillir un âne
DESCRIPTION:Objectifs:\n– Acquérir les connaissances de base nécessaires à la détention d’un âne\n– Être en capacité de prendre soin de son âne au quotidien & d’identifier les problématiques\n– Identifier le matériel correspondant aux ânes & avoir une première approche de son utilisation correcte\n– Être en mesure de répondre aux besoins sociaux de son âne dans son rapport à l’homme: sortir et participer à la vie de la maison/ferme. \nDescriptif complet sur notre site internet \, rubrique « actualités » \n2-4 participants
URL:https://www.unap.eu/stage/accueillir-un-ane-5/
CATEGORIES:A : Pour découvrir, accueillir, essayer, sur 1 à 2 jours, préparation au certificat de détenteur
ORGANIZER;CN="Les %C3%A2nes de Fleur de Jour":MAILTO:fleurdejour.cotesdarmor@gmail.com
END:VEVENT
END:VCALENDAR